BEGIN:VCALENDAR
VERSION:2.0
PRODID:-//Christ Episcopal Church - ECPv6.15.20//NONSGML v1.0//EN
CALSCALE:GREGORIAN
METHOD:PUBLISH
X-WR-CALNAME:Christ Episcopal Church
X-ORIGINAL-URL:https://christchurchdover.church
X-WR-CALDESC:Events for Christ Episcopal Church
REFRESH-INTERVAL;VALUE=DURATION:PT1H
X-Robots-Tag:noindex
X-PUBLISHED-TTL:PT1H
BEGIN:VTIMEZONE
TZID:UTC
BEGIN:STANDARD
TZOFFSETFROM:+0000
TZOFFSETTO:+0000
TZNAME:UTC
DTSTART:20230101T000000
END:STANDARD
END:VTIMEZONE
BEGIN:VEVENT
DTSTART;TZID=UTC:20241006T080000
DTEND;TZID=UTC:20241006T090000
DTSTAMP:20260419T111439
CREATED:20240219T205033Z
LAST-MODIFIED:20240509T192057Z
UID:10002427-1728201600-1728205200@christchurchdover.church
SUMMARY:8 AM Service
DESCRIPTION:This service is Rite I with Holy Eucharist
URL:https://christchurchdover.church/event/8-am-service-16/2024-10-06/
END:VEVENT
BEGIN:VEVENT
DTSTART;TZID=UTC:20241006T090000
DTEND;TZID=UTC:20241006T094500
DTSTAMP:20260419T111439
CREATED:20240730T225533Z
LAST-MODIFIED:20240730T225533Z
UID:10002772-1728205200-1728207900@christchurchdover.church
SUMMARY:Spiritual Formation
DESCRIPTION:All are welcome to this discussion group which meets in the Parish Hall.  The subject this week is “How to Be a Christian in a Polarized World: Part 1”.
URL:https://christchurchdover.church/event/spiritual-formation-10/
END:VEVENT
BEGIN:VEVENT
DTSTART;TZID=UTC:20241006T100000
DTEND;TZID=UTC:20241006T110000
DTSTAMP:20260419T111439
CREATED:20240219T205200Z
LAST-MODIFIED:20240509T191934Z
UID:10002458-1728208800-1728212400@christchurchdover.church
SUMMARY:10:00 AM Service
DESCRIPTION:This service is Rite I with Holy Eucharist.
URL:https://christchurchdover.church/event/1000-am-service/2024-10-06/
END:VEVENT
BEGIN:VEVENT
DTSTART;TZID=UTC:20241006T113000
DTEND;TZID=UTC:20241006T123000
DTSTAMP:20260419T111439
CREATED:20240807T183232Z
LAST-MODIFIED:20240807T183232Z
UID:10002789-1728214200-1728217800@christchurchdover.church
SUMMARY:Daughters of the King Preparation Meeting
DESCRIPTION:
URL:https://christchurchdover.church/event/daughters-of-the-king-preparation-meeting-2/2024-10-06/
END:VEVENT
END:VCALENDAR