BEGIN:VCALENDAR
VERSION:2.0
PRODID:-//Christ Episcopal Church - ECPv6.15.20//NONSGML v1.0//EN
CALSCALE:GREGORIAN
METHOD:PUBLISH
X-ORIGINAL-URL:https://christchurchdover.church
X-WR-CALDESC:Events for Christ Episcopal Church
REFRESH-INTERVAL;VALUE=DURATION:PT1H
X-Robots-Tag:noindex
X-PUBLISHED-TTL:PT1H
BEGIN:VTIMEZONE
TZID:UTC
BEGIN:STANDARD
TZOFFSETFROM:+0000
TZOFFSETTO:+0000
TZNAME:UTC
DTSTART:20240101T000000
END:STANDARD
END:VTIMEZONE
BEGIN:VTIMEZONE
TZID:America/New_York
BEGIN:DAYLIGHT
TZOFFSETFROM:-0500
TZOFFSETTO:-0400
TZNAME:EDT
DTSTART:20240310T070000
END:DAYLIGHT
BEGIN:STANDARD
TZOFFSETFROM:-0400
TZOFFSETTO:-0500
TZNAME:EST
DTSTART:20241103T060000
END:STANDARD
BEGIN:DAYLIGHT
TZOFFSETFROM:-0500
TZOFFSETTO:-0400
TZNAME:EDT
DTSTART:20250309T070000
END:DAYLIGHT
BEGIN:STANDARD
TZOFFSETFROM:-0400
TZOFFSETTO:-0500
TZNAME:EST
DTSTART:20251102T060000
END:STANDARD
BEGIN:DAYLIGHT
TZOFFSETFROM:-0500
TZOFFSETTO:-0400
TZNAME:EDT
DTSTART:20260308T070000
END:DAYLIGHT
BEGIN:STANDARD
TZOFFSETFROM:-0400
TZOFFSETTO:-0500
TZNAME:EST
DTSTART:20261101T060000
END:STANDARD
END:VTIMEZONE
BEGIN:VEVENT
DTSTART;TZID=UTC:20250325T140000
DTEND;TZID=UTC:20250325T150000
DTSTAMP:20260419T142214
CREATED:20250112T005913Z
LAST-MODIFIED:20250307T200400Z
UID:10003197-1742911200-1742914800@christchurchdover.church
SUMMARY:History/Research and Cemetery Committee Meeting
DESCRIPTION:
URL:https://christchurchdover.church/event/history-research-and-cemetery-committee-meeting/
END:VEVENT
BEGIN:VEVENT
DTSTART;TZID=America/New_York:20250325T173000
DTEND;TZID=America/New_York:20250325T193000
DTSTAMP:20260419T142214
CREATED:20250313T002225Z
LAST-MODIFIED:20250313T002225Z
UID:10003724-1742923800-1742931000@christchurchdover.church
SUMMARY:Spirituals  Presentation
DESCRIPTION:
URL:https://christchurchdover.church/event/spirituals-presentation-2/
END:VEVENT
BEGIN:VEVENT
DTSTART;TZID=UTC:20250325T180000
DTEND;TZID=UTC:20250325T193000
DTSTAMP:20260419T142214
CREATED:20241218T221549Z
LAST-MODIFIED:20241218T221549Z
UID:10002830-1742925600-1742931000@christchurchdover.church
SUMMARY:AA Meeting
DESCRIPTION:
URL:https://christchurchdover.church/event/aa-meeting-3/2025-03-25/
END:VEVENT
END:VCALENDAR