BEGIN:VCALENDAR
VERSION:2.0
PRODID:-//Christ Episcopal Church - ECPv6.15.20//NONSGML v1.0//EN
CALSCALE:GREGORIAN
METHOD:PUBLISH
X-WR-CALNAME:Christ Episcopal Church
X-ORIGINAL-URL:https://christchurchdover.church
X-WR-CALDESC:Events for Christ Episcopal Church
REFRESH-INTERVAL;VALUE=DURATION:PT1H
X-Robots-Tag:noindex
X-PUBLISHED-TTL:PT1H
BEGIN:VTIMEZONE
TZID:UTC
BEGIN:STANDARD
TZOFFSETFROM:+0000
TZOFFSETTO:+0000
TZNAME:UTC
DTSTART:20250101T000000
END:STANDARD
END:VTIMEZONE
BEGIN:VEVENT
DTSTART;TZID=UTC:20260425T090000
DTEND;TZID=UTC:20260425T103000
DTSTAMP:20260424T082233
CREATED:20250410T032413Z
LAST-MODIFIED:20250410T032555Z
UID:10001576-1777107600-1777113000@christchurchdover.church
SUMMARY:Al Anon Meeting
DESCRIPTION:12 Step Group meets in the Lower Level Meeting Room of Parish House
URL:https://christchurchdover.church/event/al-anon-meeting-4-2/2026-04-25/
END:VEVENT
BEGIN:VEVENT
DTSTART;TZID=UTC:20260502T090000
DTEND;TZID=UTC:20260502T103000
DTSTAMP:20260424T082233
CREATED:20250410T032413Z
LAST-MODIFIED:20250410T032555Z
UID:10001577-1777712400-1777717800@christchurchdover.church
SUMMARY:Al Anon Meeting
DESCRIPTION:12 Step Group meets in the Lower Level Meeting Room of Parish House
URL:https://christchurchdover.church/event/al-anon-meeting-4-2/2026-05-02/
END:VEVENT
BEGIN:VEVENT
DTSTART;TZID=UTC:20260509T090000
DTEND;TZID=UTC:20260509T103000
DTSTAMP:20260424T082233
CREATED:20250410T032413Z
LAST-MODIFIED:20250410T032555Z
UID:10001578-1778317200-1778322600@christchurchdover.church
SUMMARY:Al Anon Meeting
DESCRIPTION:12 Step Group meets in the Lower Level Meeting Room of Parish House
URL:https://christchurchdover.church/event/al-anon-meeting-4-2/2026-05-09/
END:VEVENT
BEGIN:VEVENT
DTSTART;TZID=UTC:20260516T090000
DTEND;TZID=UTC:20260516T103000
DTSTAMP:20260424T082233
CREATED:20250410T032413Z
LAST-MODIFIED:20250410T032555Z
UID:10001579-1778922000-1778927400@christchurchdover.church
SUMMARY:Al Anon Meeting
DESCRIPTION:12 Step Group meets in the Lower Level Meeting Room of Parish House
URL:https://christchurchdover.church/event/al-anon-meeting-4-2/2026-05-16/
END:VEVENT
BEGIN:VEVENT
DTSTART;TZID=UTC:20260523T090000
DTEND;TZID=UTC:20260523T103000
DTSTAMP:20260424T082233
CREATED:20250410T032413Z
LAST-MODIFIED:20250410T032555Z
UID:10001580-1779526800-1779532200@christchurchdover.church
SUMMARY:Al Anon Meeting
DESCRIPTION:12 Step Group meets in the Lower Level Meeting Room of Parish House
URL:https://christchurchdover.church/event/al-anon-meeting-4-2/2026-05-23/
END:VEVENT
BEGIN:VEVENT
DTSTART;TZID=UTC:20260530T090000
DTEND;TZID=UTC:20260530T103000
DTSTAMP:20260424T082233
CREATED:20250410T032413Z
LAST-MODIFIED:20250410T032555Z
UID:10001581-1780131600-1780137000@christchurchdover.church
SUMMARY:Al Anon Meeting
DESCRIPTION:12 Step Group meets in the Lower Level Meeting Room of Parish House
URL:https://christchurchdover.church/event/al-anon-meeting-4-2/2026-05-30/
END:VEVENT
BEGIN:VEVENT
DTSTART;TZID=UTC:20260606T090000
DTEND;TZID=UTC:20260606T103000
DTSTAMP:20260424T082233
CREATED:20250410T032413Z
LAST-MODIFIED:20250410T032555Z
UID:10001582-1780736400-1780741800@christchurchdover.church
SUMMARY:Al Anon Meeting
DESCRIPTION:12 Step Group meets in the Lower Level Meeting Room of Parish House
URL:https://christchurchdover.church/event/al-anon-meeting-4-2/2026-06-06/
END:VEVENT
BEGIN:VEVENT
DTSTART;TZID=UTC:20260613T090000
DTEND;TZID=UTC:20260613T103000
DTSTAMP:20260424T082233
CREATED:20250410T032413Z
LAST-MODIFIED:20250410T032555Z
UID:10001583-1781341200-1781346600@christchurchdover.church
SUMMARY:Al Anon Meeting
DESCRIPTION:12 Step Group meets in the Lower Level Meeting Room of Parish House
URL:https://christchurchdover.church/event/al-anon-meeting-4-2/2026-06-13/
END:VEVENT
BEGIN:VEVENT
DTSTART;TZID=UTC:20260620T090000
DTEND;TZID=UTC:20260620T103000
DTSTAMP:20260424T082233
CREATED:20250410T032413Z
LAST-MODIFIED:20250410T032555Z
UID:10001584-1781946000-1781951400@christchurchdover.church
SUMMARY:Al Anon Meeting
DESCRIPTION:12 Step Group meets in the Lower Level Meeting Room of Parish House
URL:https://christchurchdover.church/event/al-anon-meeting-4-2/2026-06-20/
END:VEVENT
BEGIN:VEVENT
DTSTART;TZID=UTC:20260627T090000
DTEND;TZID=UTC:20260627T103000
DTSTAMP:20260424T082233
CREATED:20250410T032413Z
LAST-MODIFIED:20250410T032555Z
UID:10001585-1782550800-1782556200@christchurchdover.church
SUMMARY:Al Anon Meeting
DESCRIPTION:12 Step Group meets in the Lower Level Meeting Room of Parish House
URL:https://christchurchdover.church/event/al-anon-meeting-4-2/2026-06-27/
END:VEVENT
BEGIN:VEVENT
DTSTART;TZID=UTC:20260704T090000
DTEND;TZID=UTC:20260704T103000
DTSTAMP:20260424T082233
CREATED:20250410T032413Z
LAST-MODIFIED:20250410T032555Z
UID:10001586-1783155600-1783161000@christchurchdover.church
SUMMARY:Al Anon Meeting
DESCRIPTION:12 Step Group meets in the Lower Level Meeting Room of Parish House
URL:https://christchurchdover.church/event/al-anon-meeting-4-2/2026-07-04/
END:VEVENT
BEGIN:VEVENT
DTSTART;TZID=UTC:20260711T090000
DTEND;TZID=UTC:20260711T103000
DTSTAMP:20260424T082233
CREATED:20250410T032413Z
LAST-MODIFIED:20250410T032555Z
UID:10001587-1783760400-1783765800@christchurchdover.church
SUMMARY:Al Anon Meeting
DESCRIPTION:12 Step Group meets in the Lower Level Meeting Room of Parish House
URL:https://christchurchdover.church/event/al-anon-meeting-4-2/2026-07-11/
END:VEVENT
BEGIN:VEVENT
DTSTART;TZID=UTC:20260718T090000
DTEND;TZID=UTC:20260718T103000
DTSTAMP:20260424T082233
CREATED:20250410T032413Z
LAST-MODIFIED:20250410T032555Z
UID:10001588-1784365200-1784370600@christchurchdover.church
SUMMARY:Al Anon Meeting
DESCRIPTION:12 Step Group meets in the Lower Level Meeting Room of Parish House
URL:https://christchurchdover.church/event/al-anon-meeting-4-2/2026-07-18/
END:VEVENT
BEGIN:VEVENT
DTSTART;TZID=UTC:20260725T090000
DTEND;TZID=UTC:20260725T103000
DTSTAMP:20260424T082233
CREATED:20250410T032413Z
LAST-MODIFIED:20250410T032555Z
UID:10001589-1784970000-1784975400@christchurchdover.church
SUMMARY:Al Anon Meeting
DESCRIPTION:12 Step Group meets in the Lower Level Meeting Room of Parish House
URL:https://christchurchdover.church/event/al-anon-meeting-4-2/2026-07-25/
END:VEVENT
BEGIN:VEVENT
DTSTART;TZID=UTC:20260801T090000
DTEND;TZID=UTC:20260801T103000
DTSTAMP:20260424T082233
CREATED:20250410T032413Z
LAST-MODIFIED:20250410T032555Z
UID:10001590-1785574800-1785580200@christchurchdover.church
SUMMARY:Al Anon Meeting
DESCRIPTION:12 Step Group meets in the Lower Level Meeting Room of Parish House
URL:https://christchurchdover.church/event/al-anon-meeting-4-2/2026-08-01/
END:VEVENT
BEGIN:VEVENT
DTSTART;TZID=UTC:20260808T090000
DTEND;TZID=UTC:20260808T103000
DTSTAMP:20260424T082233
CREATED:20250410T032413Z
LAST-MODIFIED:20250410T032555Z
UID:10001591-1786179600-1786185000@christchurchdover.church
SUMMARY:Al Anon Meeting
DESCRIPTION:12 Step Group meets in the Lower Level Meeting Room of Parish House
URL:https://christchurchdover.church/event/al-anon-meeting-4-2/2026-08-08/
END:VEVENT
BEGIN:VEVENT
DTSTART;TZID=UTC:20260815T090000
DTEND;TZID=UTC:20260815T103000
DTSTAMP:20260424T082233
CREATED:20250410T032413Z
LAST-MODIFIED:20250410T032555Z
UID:10001592-1786784400-1786789800@christchurchdover.church
SUMMARY:Al Anon Meeting
DESCRIPTION:12 Step Group meets in the Lower Level Meeting Room of Parish House
URL:https://christchurchdover.church/event/al-anon-meeting-4-2/2026-08-15/
END:VEVENT
BEGIN:VEVENT
DTSTART;TZID=UTC:20260822T090000
DTEND;TZID=UTC:20260822T103000
DTSTAMP:20260424T082233
CREATED:20250410T032413Z
LAST-MODIFIED:20250410T032555Z
UID:10001593-1787389200-1787394600@christchurchdover.church
SUMMARY:Al Anon Meeting
DESCRIPTION:12 Step Group meets in the Lower Level Meeting Room of Parish House
URL:https://christchurchdover.church/event/al-anon-meeting-4-2/2026-08-22/
END:VEVENT
BEGIN:VEVENT
DTSTART;TZID=UTC:20260829T090000
DTEND;TZID=UTC:20260829T103000
DTSTAMP:20260424T082233
CREATED:20250410T032413Z
LAST-MODIFIED:20250410T032555Z
UID:10001594-1787994000-1787999400@christchurchdover.church
SUMMARY:Al Anon Meeting
DESCRIPTION:12 Step Group meets in the Lower Level Meeting Room of Parish House
URL:https://christchurchdover.church/event/al-anon-meeting-4-2/2026-08-29/
END:VEVENT
BEGIN:VEVENT
DTSTART;TZID=UTC:20260905T090000
DTEND;TZID=UTC:20260905T103000
DTSTAMP:20260424T082233
CREATED:20250410T032413Z
LAST-MODIFIED:20250410T032555Z
UID:10001595-1788598800-1788604200@christchurchdover.church
SUMMARY:Al Anon Meeting
DESCRIPTION:12 Step Group meets in the Lower Level Meeting Room of Parish House
URL:https://christchurchdover.church/event/al-anon-meeting-4-2/2026-09-05/
END:VEVENT
BEGIN:VEVENT
DTSTART;TZID=UTC:20260912T090000
DTEND;TZID=UTC:20260912T103000
DTSTAMP:20260424T082233
CREATED:20250410T032413Z
LAST-MODIFIED:20250410T032555Z
UID:10001596-1789203600-1789209000@christchurchdover.church
SUMMARY:Al Anon Meeting
DESCRIPTION:12 Step Group meets in the Lower Level Meeting Room of Parish House
URL:https://christchurchdover.church/event/al-anon-meeting-4-2/2026-09-12/
END:VEVENT
BEGIN:VEVENT
DTSTART;TZID=UTC:20260919T090000
DTEND;TZID=UTC:20260919T103000
DTSTAMP:20260424T082233
CREATED:20250410T032413Z
LAST-MODIFIED:20250410T032555Z
UID:10001597-1789808400-1789813800@christchurchdover.church
SUMMARY:Al Anon Meeting
DESCRIPTION:12 Step Group meets in the Lower Level Meeting Room of Parish House
URL:https://christchurchdover.church/event/al-anon-meeting-4-2/2026-09-19/
END:VEVENT
BEGIN:VEVENT
DTSTART;TZID=UTC:20260926T090000
DTEND;TZID=UTC:20260926T103000
DTSTAMP:20260424T082233
CREATED:20250410T032413Z
LAST-MODIFIED:20250410T032555Z
UID:10001598-1790413200-1790418600@christchurchdover.church
SUMMARY:Al Anon Meeting
DESCRIPTION:12 Step Group meets in the Lower Level Meeting Room of Parish House
URL:https://christchurchdover.church/event/al-anon-meeting-4-2/2026-09-26/
END:VEVENT
BEGIN:VEVENT
DTSTART;TZID=UTC:20261003T090000
DTEND;TZID=UTC:20261003T103000
DTSTAMP:20260424T082233
CREATED:20250410T032413Z
LAST-MODIFIED:20250410T032555Z
UID:10001599-1791018000-1791023400@christchurchdover.church
SUMMARY:Al Anon Meeting
DESCRIPTION:12 Step Group meets in the Lower Level Meeting Room of Parish House
URL:https://christchurchdover.church/event/al-anon-meeting-4-2/2026-10-03/
END:VEVENT
BEGIN:VEVENT
DTSTART;TZID=UTC:20261010T090000
DTEND;TZID=UTC:20261010T103000
DTSTAMP:20260424T082233
CREATED:20250410T032413Z
LAST-MODIFIED:20250410T032555Z
UID:10001600-1791622800-1791628200@christchurchdover.church
SUMMARY:Al Anon Meeting
DESCRIPTION:12 Step Group meets in the Lower Level Meeting Room of Parish House
URL:https://christchurchdover.church/event/al-anon-meeting-4-2/2026-10-10/
END:VEVENT
BEGIN:VEVENT
DTSTART;TZID=UTC:20261017T090000
DTEND;TZID=UTC:20261017T103000
DTSTAMP:20260424T082233
CREATED:20250410T032413Z
LAST-MODIFIED:20250410T032555Z
UID:10001601-1792227600-1792233000@christchurchdover.church
SUMMARY:Al Anon Meeting
DESCRIPTION:12 Step Group meets in the Lower Level Meeting Room of Parish House
URL:https://christchurchdover.church/event/al-anon-meeting-4-2/2026-10-17/
END:VEVENT
BEGIN:VEVENT
DTSTART;TZID=UTC:20261024T090000
DTEND;TZID=UTC:20261024T103000
DTSTAMP:20260424T082233
CREATED:20250410T032413Z
LAST-MODIFIED:20250410T032555Z
UID:10001602-1792832400-1792837800@christchurchdover.church
SUMMARY:Al Anon Meeting
DESCRIPTION:12 Step Group meets in the Lower Level Meeting Room of Parish House
URL:https://christchurchdover.church/event/al-anon-meeting-4-2/2026-10-24/
END:VEVENT
BEGIN:VEVENT
DTSTART;TZID=UTC:20261031T090000
DTEND;TZID=UTC:20261031T103000
DTSTAMP:20260424T082233
CREATED:20250410T032413Z
LAST-MODIFIED:20250410T032555Z
UID:10001603-1793437200-1793442600@christchurchdover.church
SUMMARY:Al Anon Meeting
DESCRIPTION:12 Step Group meets in the Lower Level Meeting Room of Parish House
URL:https://christchurchdover.church/event/al-anon-meeting-4-2/2026-10-31/
END:VEVENT
BEGIN:VEVENT
DTSTART;TZID=UTC:20261107T090000
DTEND;TZID=UTC:20261107T103000
DTSTAMP:20260424T082233
CREATED:20250410T032413Z
LAST-MODIFIED:20250410T032555Z
UID:10001604-1794042000-1794047400@christchurchdover.church
SUMMARY:Al Anon Meeting
DESCRIPTION:12 Step Group meets in the Lower Level Meeting Room of Parish House
URL:https://christchurchdover.church/event/al-anon-meeting-4-2/2026-11-07/
END:VEVENT
BEGIN:VEVENT
DTSTART;TZID=UTC:20261114T090000
DTEND;TZID=UTC:20261114T103000
DTSTAMP:20260424T082233
CREATED:20250410T032413Z
LAST-MODIFIED:20250410T032555Z
UID:10001605-1794646800-1794652200@christchurchdover.church
SUMMARY:Al Anon Meeting
DESCRIPTION:12 Step Group meets in the Lower Level Meeting Room of Parish House
URL:https://christchurchdover.church/event/al-anon-meeting-4-2/2026-11-14/
END:VEVENT
END:VCALENDAR